BEGIN:VCALENDAR
VERSION:2.0
PRODID:-//Interface
CALSCALE:GREGORIAN
METHOD:PUBLISH
X-WR-CALNAME:Interface
X-ORIGINAL-URL:https://interface.mcmaster.ca/event/resilience-2017-the-4th-triennial-conference-on-resilience-stockholm/
X-WR-CALDESC:Resilience 2017: The 4th Triennial Conference On Resilience
BEGIN:VEVENT
DTSTART:
DTEND:
SUMMARY:Resilience 2017: The 4th Triennial Conference On Resilience
DESCRIPTION:
LOCATION:
END:VEVENT
END:VCALENDAR
